BEGIN:VCALENDAR
VERSION:2.0
PRODID:-//AwenTree | Magickal Hub | Northampton Tarot &amp; Reiki Healing - ECPv6.15.18//NONSGML v1.0//EN
CALSCALE:GREGORIAN
METHOD:PUBLISH
X-WR-CALNAME:AwenTree | Magickal Hub | Northampton Tarot &amp; Reiki Healing
X-ORIGINAL-URL:https://awentree.com
X-WR-CALDESC:Events for AwenTree | Magickal Hub | Northampton Tarot &amp; Reiki Healing
REFRESH-INTERVAL;VALUE=DURATION:PT1H
X-Robots-Tag:noindex
X-PUBLISHED-TTL:PT1H
BEGIN:VTIMEZONE
TZID:America/New_York
BEGIN:DAYLIGHT
TZOFFSETFROM:-0500
TZOFFSETTO:-0400
TZNAME:EDT
DTSTART:20250309T070000
END:DAYLIGHT
BEGIN:STANDARD
TZOFFSETFROM:-0400
TZOFFSETTO:-0500
TZNAME:EST
DTSTART:20251102T060000
END:STANDARD
BEGIN:DAYLIGHT
TZOFFSETFROM:-0500
TZOFFSETTO:-0400
TZNAME:EDT
DTSTART:20260308T070000
END:DAYLIGHT
BEGIN:STANDARD
TZOFFSETFROM:-0400
TZOFFSETTO:-0500
TZNAME:EST
DTSTART:20261101T060000
END:STANDARD
BEGIN:DAYLIGHT
TZOFFSETFROM:-0500
TZOFFSETTO:-0400
TZNAME:EDT
DTSTART:20270314T070000
END:DAYLIGHT
BEGIN:STANDARD
TZOFFSETFROM:-0400
TZOFFSETTO:-0500
TZNAME:EST
DTSTART:20271107T060000
END:STANDARD
END:VTIMEZONE
BEGIN:VEVENT
DTSTART;TZID=America/New_York:20260329T210000
DTEND;TZID=America/New_York:20260329T230000
DTSTAMP:20260423T120806
CREATED:20260328T183655Z
LAST-MODIFIED:20260328T183913Z
UID:21423-1774818000-1774825200@awentree.com
SUMMARY:test
DESCRIPTION:test \nthis is a great event \nyou should sign up
URL:https://awentree.com/event/test-2/
END:VEVENT
END:VCALENDAR